BEGIN:VCALENDAR
VERSION:2.0
PRODID:-//CJCB - ECPv4.6.26//NONSGML v1.0//EN
CALSCALE:GREGORIAN
METHOD:PUBLISH
X-WR-CALNAME:CJCB
X-ORIGINAL-URL:https://cjcbradio.com
X-WR-CALDESC:Events for CJCB
BEGIN:VEVENT
DTSTART;TZID=America/Halifax:20240119T133000
DTEND;TZID=America/Halifax:20240119T153000
DTSTAMP:20260425T162937
CREATED:20231214T192059Z
LAST-MODIFIED:20231214T192059Z
UID:9458-1705671000-1705678200@cjcbradio.com
SUMMARY:Knitting Club
DESCRIPTION:Glace Bay Library \nFriday Jan 19 \n1:30 – 3:30 \npop in for some knitting\, tea\, and excellent society. Want to learn? we’d be happy to help you get started. \n\n
URL:https://cjcbradio.com/event/knitting-club-15/
END:VEVENT
END:VCALENDAR