BEGIN:VCALENDAR
VERSION:2.0
PRODID:-//CJCB - ECPv4.6.26//NONSGML v1.0//EN
CALSCALE:GREGORIAN
METHOD:PUBLISH
X-WR-CALNAME:CJCB
X-ORIGINAL-URL:https://cjcbradio.com
X-WR-CALDESC:Events for CJCB
BEGIN:VEVENT
DTSTART;TZID=America/Halifax:20240202T133000
DTEND;TZID=America/Halifax:20240202T153000
DTSTAMP:20260423T010823
CREATED:20240201T183523Z
LAST-MODIFIED:20240201T183523Z
UID:9536-1706880600-1706887800@cjcbradio.com
SUMMARY:Knitting Club
DESCRIPTION:Glace Bay Library \nFriday Feb 2 \n1:30 – 3:30 \nPop in for some knitting\, tea\, and excellent society. \n  \n
URL:https://cjcbradio.com/event/knitting-club-17/2024-02-02/
END:VEVENT
END:VCALENDAR