BEGIN:VCALENDAR
VERSION:2.0
PRODID:-//CJCB - ECPv4.6.26//NONSGML v1.0//EN
CALSCALE:GREGORIAN
METHOD:PUBLISH
X-WR-CALNAME:CJCB
X-ORIGINAL-URL:https://cjcbradio.com
X-WR-CALDESC:Events for CJCB
BEGIN:VEVENT
DTSTART;TZID=America/Halifax:20240906T133000
DTEND;TZID=America/Halifax:20240906T153000
DTSTAMP:20260422T201723
CREATED:20240830T141748Z
LAST-MODIFIED:20240830T141748Z
UID:9854-1725629400-1725636600@cjcbradio.com
SUMMARY:Knitting Club
DESCRIPTION:Glace Bay Library \nEvery Friday 1:30 – 3:30pm \n
URL:https://cjcbradio.com/event/knitting-club-20/2024-09-06/
END:VEVENT
END:VCALENDAR