BEGIN:VCALENDAR
VERSION:2.0
PRODID:-//CJCB - ECPv4.6.26//NONSGML v1.0//EN
CALSCALE:GREGORIAN
METHOD:PUBLISH
X-WR-CALNAME:CJCB
X-ORIGINAL-URL:https://cjcbradio.com
X-WR-CALDESC:Events for CJCB
BEGIN:VEVENT
DTSTART;TZID=America/Halifax:20250910T153000
DTEND;TZID=America/Halifax:20250910T163000
DTSTAMP:20260425T133731
CREATED:20250911T182306Z
LAST-MODIFIED:20250911T182306Z
UID:10386-1757518200-1757521800@cjcbradio.com
SUMMARY:Lego Club
DESCRIPTION:Glace Bay Library \nOctober 10\, 24   3:45-4:30 \nHave fun making Lego creations \n
URL:https://cjcbradio.com/event/lego-club-27/2025-09-10/
END:VEVENT
END:VCALENDAR