BEGIN:VCALENDAR
VERSION:2.0
PRODID:-//CJCB - ECPv4.6.26//NONSGML v1.0//EN
CALSCALE:GREGORIAN
METHOD:PUBLISH
X-WR-CALNAME:CJCB
X-ORIGINAL-URL:https://cjcbradio.com
X-WR-CALDESC:Events for CJCB
BEGIN:VEVENT
DTSTART;TZID=America/Halifax:20230126T153000
DTEND;TZID=America/Halifax:20230126T163000
DTSTAMP:20260422T122605
CREATED:20221230T151757Z
LAST-MODIFIED:20221230T151810Z
UID:8787-1674747000-1674750600@cjcbradio.com
SUMMARY:Lego Club at Glace Bay Library
DESCRIPTION:Come and enjoy Lego Club at the Glace Bay Library.  Happening January 26th from 3:30pm-4:30pm. \nRegistration required.  Please call 902-849-8657. \n
URL:https://cjcbradio.com/event/lego-club-at-glace-bay-library-2/
END:VEVENT
END:VCALENDAR