BEGIN:VCALENDAR
VERSION:2.0
PRODID:-//CJCB - ECPv4.6.26//NONSGML v1.0//EN
CALSCALE:GREGORIAN
METHOD:PUBLISH
X-WR-CALNAME:CJCB
X-ORIGINAL-URL:https://cjcbradio.com
X-WR-CALDESC:Events for CJCB
BEGIN:VEVENT
DTSTART;TZID=America/Halifax:20231109T153000
DTEND;TZID=America/Halifax:20231109T163000
DTSTAMP:20260423T230307
CREATED:20231106T161030Z
LAST-MODIFIED:20231106T161030Z
UID:9335-1699543800-1699547400@cjcbradio.com
SUMMARY:Lego Club @GBL
DESCRIPTION:Glace Bay Library \nThursday Nov 9 \n3:30 – 4:30 \nCalling all Master Builders! Lego Club is accepting new members. Join us for an hour of fun. Registration required. Please email ewilliams@cbrl.ca or cmcinnis@cbrl.ca \n\n
URL:https://cjcbradio.com/event/lego-club-gbl/
END:VEVENT
END:VCALENDAR