BEGIN:VCALENDAR
VERSION:2.0
PRODID:-//CJCB - ECPv4.6.26//NONSGML v1.0//EN
CALSCALE:GREGORIAN
METHOD:PUBLISH
X-WR-CALNAME:CJCB
X-ORIGINAL-URL:https://cjcbradio.com
X-WR-CALDESC:Events for CJCB
BEGIN:VEVENT
DTSTART;TZID=UTC+0:20170308T120000
DTEND;TZID=UTC+0:20170308T120000
DTSTAMP:20260422T120510
CREATED:20170301T000219Z
LAST-MODIFIED:20170301T000219Z
UID:300-1488974400-1488974400@cjcbradio.com
SUMMARY:Lenten Mid-Week Ecumenical Service
DESCRIPTION:7 Words from the Cross \nWednesday\, March 8th \nWarden United Church \n44 Fifth Street\, Glace Bay @ 12 PM \n  \n
URL:https://cjcbradio.com/event/lenten-mid-week-ecumenical-service-2/
END:VEVENT
END:VCALENDAR