BEGIN:VCALENDAR
VERSION:2.0
PRODID:-//CJCB - ECPv4.6.26//NONSGML v1.0//EN
CALSCALE:GREGORIAN
METHOD:PUBLISH
X-WR-CALNAME:CJCB
X-ORIGINAL-URL:https://cjcbradio.com
X-WR-CALDESC:Events for CJCB
BEGIN:VEVENT
DTSTART;TZID=America/Halifax:20250718T140000
DTEND;TZID=America/Halifax:20250718T150000
DTSTAMP:20260425T192257
CREATED:20250623T141706Z
LAST-MODIFIED:20250623T141706Z
UID:10280-1752847200-1752850800@cjcbradio.com
SUMMARY:Library Monster Crafternoon
DESCRIPTION:Glace Bay Library \nFri July 18 \n2 – 3pm \nDrop in and create your very own library monster. \n
URL:https://cjcbradio.com/event/library-monster-crafternoon/
END:VEVENT
END:VCALENDAR