BEGIN:VCALENDAR
VERSION:2.0
PRODID:-//CJCB - ECPv4.6.26//NONSGML v1.0//EN
CALSCALE:GREGORIAN
METHOD:PUBLISH
X-WR-CALNAME:CJCB
X-ORIGINAL-URL:https://cjcbradio.com
X-WR-CALDESC:Events for CJCB
BEGIN:VEVENT
DTSTART;TZID=America/Halifax:20190116T133000
DTEND;TZID=America/Halifax:20190116T153000
DTSTAMP:20260422T070805
CREATED:20190108T184625Z
LAST-MODIFIED:20190108T184625Z
UID:5115-1547645400-1547652600@cjcbradio.com
SUMMARY:Living with Cancer Meeting
DESCRIPTION:Living With Cancer Support Group\, a support group for those who have had a diagnosis of cancer\, for their family\, caregivers will meet Wednesday\, Jan. 16th\, 2019\, 1:30 pm – 3:30 pm at Royal Canadian Legion\, Branch 128 (Pier)\, Victoria Road. – weather permitting – \n
URL:https://cjcbradio.com/event/living-with-cancer-meeting/
END:VEVENT
END:VCALENDAR