BEGIN:VCALENDAR
VERSION:2.0
PRODID:-//CJCB - ECPv4.6.26//NONSGML v1.0//EN
CALSCALE:GREGORIAN
METHOD:PUBLISH
X-WR-CALNAME:CJCB
X-ORIGINAL-URL:https://cjcbradio.com
X-WR-CALDESC:Events for CJCB
BEGIN:VEVENT
DTSTART;TZID=UTC+0:20170517T133000
DTEND;TZID=UTC+0:20170517T153000
DTSTAMP:20260423T004502
CREATED:20170504T151612Z
LAST-MODIFIED:20170504T151612Z
UID:621-1495027800-1495035000@cjcbradio.com
SUMMARY:Living with Cancer Support Group
DESCRIPTION:Living With Cancer Support Group\, a support group for those who have had a diagnosis of cancer\, for their family\, caregivers will meet Wednesday\, May 17\, 2017\, 1:30 pm – 3:30 pm at Royal Canadian Legion\, Branch 128 (Pier)\, Victoria Road. Guest Speaker : Mary Lou MacDougall\, Pastoral Care\, Cape Breton Regional Hospital \n
URL:https://cjcbradio.com/event/living-with-cancer-support-group-2/
END:VEVENT
END:VCALENDAR