BEGIN:VCALENDAR
VERSION:2.0
PRODID:-//CJCB - ECPv4.6.26//NONSGML v1.0//EN
CALSCALE:GREGORIAN
METHOD:PUBLISH
X-WR-CALNAME:CJCB
X-ORIGINAL-URL:https://cjcbradio.com
X-WR-CALDESC:Events for CJCB
BEGIN:VEVENT
DTSTART;TZID=UTC+0:20170610T083000
DTEND;TZID=UTC+0:20170610T120000
DTSTAMP:20260422T134245
CREATED:20170605T165432Z
LAST-MODIFIED:20170606T164931Z
UID:751-1497083400-1497096000@cjcbradio.com
SUMMARY:Louisbourg-Ceilidh IODE Yard Sale
DESCRIPTION:Louisbourg-Ceilidh Chapter IODE will have a indoor yard sale at Y’s Men’s Center\, 54 Riverdale Dr\,  Westmount on Saturday\,  June 10th from 8:30 – noon.  Something for everyone. Lots of bargains \n
URL:https://cjcbradio.com/event/louisbourg-ceilidh-iode-yard-sale/
END:VEVENT
END:VCALENDAR