BEGIN:VCALENDAR
VERSION:2.0
PRODID:-//CJCB - ECPv4.6.26//NONSGML v1.0//EN
CALSCALE:GREGORIAN
METHOD:PUBLISH
X-WR-CALNAME:CJCB
X-ORIGINAL-URL:https://cjcbradio.com
X-WR-CALDESC:Events for CJCB
BEGIN:VEVENT
DTSTART;TZID=America/Halifax:20180601T110000
DTEND;TZID=America/Halifax:20180601T170000
DTSTAMP:20260422T170648
CREATED:20180528T180116Z
LAST-MODIFIED:20180528T180116Z
UID:1354-1527850800-1527872400@cjcbradio.com
SUMMARY:Louisbourg Market
DESCRIPTION:Grow it! Make it! Bake it! The Louisbourg Market has 24 vendors with lots of variety to offer. Original arts and crafts and delicious home baked goods. Open June 1st from 11:00am to 5:00pm.\, 11 Mitchell Street\, Louisbourg. The Louisbourg Market – come and shop\, eat a treat and see what the talented Cape Bretoners are up to. \n
URL:https://cjcbradio.com/event/louisbourg-market/
END:VEVENT
END:VCALENDAR