BEGIN:VCALENDAR
VERSION:2.0
PRODID:-//CJCB - ECPv4.6.26//NONSGML v1.0//EN
CALSCALE:GREGORIAN
METHOD:PUBLISH
X-WR-CALNAME:CJCB
X-ORIGINAL-URL:https://cjcbradio.com
X-WR-CALDESC:Events for CJCB
BEGIN:VEVENT
DTSTART;TZID=America/Halifax:20240808T130000
DTEND;TZID=America/Halifax:20240808T150000
DTSTAMP:20260422T214754
CREATED:20240729T135700Z
LAST-MODIFIED:20240729T135700Z
UID:9826-1723122000-1723129200@cjcbradio.com
SUMMARY:Louisbrick Project!
DESCRIPTION:Glace Bay Library \nThurs Aug 8 \n1-3pm \nThe Fortress of Louisbourg but built in LEGO! Parks Canada staff will bring the pieces and the instruction booklets\, and participants can assemble miniature fortifications\, buildings\, and ships to be displayed at the Fortress of Louisbourg National Historic Site this summer! For kids and adults! \n  \n
URL:https://cjcbradio.com/event/louisbrick-project/
END:VEVENT
END:VCALENDAR