BEGIN:VCALENDAR
VERSION:2.0
PRODID:-//CJCB - ECPv4.6.26//NONSGML v1.0//EN
CALSCALE:GREGORIAN
METHOD:PUBLISH
X-WR-CALNAME:CJCB
X-ORIGINAL-URL:https://cjcbradio.com
X-WR-CALDESC:Events for CJCB
BEGIN:VEVENT
DTSTART;TZID=America/Halifax:20190308T110000
DTEND;TZID=America/Halifax:20190308T130000
DTSTAMP:20260422T153805
CREATED:20190220T173417Z
LAST-MODIFIED:20190220T173417Z
UID:5189-1552042800-1552050000@cjcbradio.com
SUMMARY:Luncheon with Dessert
DESCRIPTION:St. Mary’s Senior Guild is hosting a Soup Luncheon with Dessert on Friday\, March 8th from 11 AM – 1 PM.  $8 Eat-In or Take-out. \nLocation:  Upstairs St. Mary’s Hall\, 8 Marconi Street\, Glace Bay \n
URL:https://cjcbradio.com/event/luncheon-with-dessert/
END:VEVENT
END:VCALENDAR