BEGIN:VCALENDAR
VERSION:2.0
PRODID:-//CJCB - ECPv4.6.26//NONSGML v1.0//EN
CALSCALE:GREGORIAN
METHOD:PUBLISH
X-WR-CALNAME:CJCB
X-ORIGINAL-URL:https://cjcbradio.com
X-WR-CALDESC:Events for CJCB
BEGIN:VEVENT
DTSTART;TZID=America/Halifax:20241207T120000
DTEND;TZID=America/Halifax:20241207T160000
DTSTAMP:20260424T084150
CREATED:20241202T155047Z
LAST-MODIFIED:20241202T155047Z
UID:10031-1733572800-1733587200@cjcbradio.com
SUMMARY:MADD Tree Decorating
DESCRIPTION:MADD Cape Breton are having a tree decorating on December 7/24 at the Mayflower Mall. This is to honor the victims and their family’s. Everyone is welcome to hang an ornament. All ornaments will be supplied and there is no cost. We will be there from 12pm to 4pm. \n
URL:https://cjcbradio.com/event/madd-tree-decorating/
END:VEVENT
END:VCALENDAR