BEGIN:VCALENDAR
VERSION:2.0
PRODID:-//CJCB - ECPv4.6.26//NONSGML v1.0//EN
CALSCALE:GREGORIAN
METHOD:PUBLISH
X-WR-CALNAME:CJCB
X-ORIGINAL-URL:https://cjcbradio.com
X-WR-CALDESC:Events for CJCB
BEGIN:VEVENT
DTSTART;TZID=America/Halifax:20250815T140000
DTEND;TZID=America/Halifax:20250815T150000
DTSTAMP:20260425T162824
CREATED:20250623T142438Z
LAST-MODIFIED:20250623T142438Z
UID:10292-1755266400-1755270000@cjcbradio.com
SUMMARY:Magic Wand Crafternoon
DESCRIPTION:Glace Bay Library \nFri Aug 15    2-3pm \nDrop in to make your own magic wand \n
URL:https://cjcbradio.com/event/magic-wand-crafternoon/
END:VEVENT
END:VCALENDAR