BEGIN:VCALENDAR
VERSION:2.0
PRODID:-//CJCB - ECPv4.6.26//NONSGML v1.0//EN
CALSCALE:GREGORIAN
METHOD:PUBLISH
X-WR-CALNAME:CJCB
X-ORIGINAL-URL:https://cjcbradio.com
X-WR-CALDESC:Events for CJCB
BEGIN:VEVENT
DTSTART;TZID=UTC+0:20171118T140000
DTEND;TZID=UTC+0:20171118T160000
DTSTAMP:20260420T222024
CREATED:20171107T165501Z
LAST-MODIFIED:20171107T165501Z
UID:1185-1511013600-1511020800@cjcbradio.com
SUMMARY:Main-a-Dieu Library
DESCRIPTION:Share Your Family’s Stories\nMain-a-Dieu Library\nSaturday\, Nov. 18th\n2 PM\n Join CBRL’s Storyteller-in-Residence\, Ronald Labelle for an afternoon to share the interesting stories and characters that you’ve uncovered doing your family genealogy.\nEveryone is welcome to this free storytelling event. \nCall or email the Main-a-Dieu Library for more info. \n902-733-5708 OR mainadie@nssc.library.ns.ca \n  \n
URL:https://cjcbradio.com/event/main-a-dieu-library/
END:VEVENT
END:VCALENDAR