BEGIN:VCALENDAR
VERSION:2.0
PRODID:-//CJCB - ECPv4.6.26//NONSGML v1.0//EN
CALSCALE:GREGORIAN
METHOD:PUBLISH
X-WR-CALNAME:CJCB
X-ORIGINAL-URL:https://cjcbradio.com
X-WR-CALDESC:Events for CJCB
BEGIN:VEVENT
DTSTART;TZID=America/Halifax:20250716T130000
DTEND;TZID=America/Halifax:20250716T140000
DTSTAMP:20260422T124110
CREATED:20250715T101752Z
LAST-MODIFIED:20250715T101752Z
UID:10318-1752670800-1752674400@cjcbradio.com
SUMMARY:Make Your Own Pizza
DESCRIPTION:Sponsored and held at Big Daddy’s on Plummer Ave where you can make your own pizza!! Ages 10-15 and spaces are limited. To reserve your spot\, please Phone Big Daddy’s at 902 862 8009.\n
URL:https://cjcbradio.com/event/make-your-own-pizza/
END:VEVENT
END:VCALENDAR