BEGIN:VCALENDAR
VERSION:2.0
PRODID:-//CJCB - ECPv4.6.26//NONSGML v1.0//EN
CALSCALE:GREGORIAN
METHOD:PUBLISH
X-WR-CALNAME:CJCB
X-ORIGINAL-URL:https://cjcbradio.com
X-WR-CALDESC:Events for CJCB
BEGIN:VEVENT
DTSTART;VALUE=DATE:20230613
DTEND;VALUE=DATE:20230614
DTSTAMP:20260423T210656
CREATED:20230606T180547Z
LAST-MODIFIED:20230606T184506Z
UID:9137-1686614400-1686700799@cjcbradio.com
SUMMARY:Mama's Faith Concert
DESCRIPTION:June 13th\, 2023 from 7pm-9pm at the Holy Family Parish Hall\, 899 Main St.\, Sydney Mines:\nMama’s Faith Concert – Join us for a night of songs and stories\, by Kim Dunn and Andrew Doyle! Tickets are $20\, and tables of 8 are available for purchase. There will be a cash bar on site. Be sure to get tickets for this entertaining evening by calling or texting Norma 902 202 2972 \n
URL:https://cjcbradio.com/event/mamas-faith-concert/
END:VEVENT
END:VCALENDAR