BEGIN:VCALENDAR
VERSION:2.0
PRODID:-//CJCB - ECPv4.6.26//NONSGML v1.0//EN
CALSCALE:GREGORIAN
METHOD:PUBLISH
X-WR-CALNAME:CJCB
X-ORIGINAL-URL:https://cjcbradio.com
X-WR-CALDESC:Events for CJCB
BEGIN:VEVENT
DTSTART;TZID=America/Halifax:20180608T160000
DTEND;TZID=America/Halifax:20180608T183000
DTSTAMP:20260422T104905
CREATED:20180528T180506Z
LAST-MODIFIED:20180528T180506Z
UID:1358-1528473600-1528482600@cjcbradio.com
SUMMARY:Market
DESCRIPTION:Friday\, June 8th from 4:00 p.m. to 6:30 p.m. is our Community Market at the Mira Seniors and Pensioners Club \n
URL:https://cjcbradio.com/event/market-7/
END:VEVENT
END:VCALENDAR