BEGIN:VCALENDAR
VERSION:2.0
PRODID:-//CJCB - ECPv4.6.26//NONSGML v1.0//EN
CALSCALE:GREGORIAN
METHOD:PUBLISH
X-WR-CALNAME:CJCB
X-ORIGINAL-URL:https://cjcbradio.com
X-WR-CALDESC:Events for CJCB
BEGIN:VEVENT
DTSTART;TZID=America/Halifax:20190608T110000
DTEND;TZID=America/Halifax:20190608T170000
DTSTAMP:20260424T024703
CREATED:20190513T183027Z
LAST-MODIFIED:20190513T183027Z
UID:5426-1559991600-1560013200@cjcbradio.com
SUMMARY:Market Lobster Dinner
DESCRIPTION:“Take-Out Only” Market Lobster Dinner will be available from 11am to 5pm on Saturday\, June 8th\, 2019\, at the upper floor of the royal Canadian Legion \, 16 Archibald Avenue\, North Sydney. Cost per dinner $20.00 and tickets available in advance at the Bar on the lower level. \n
URL:https://cjcbradio.com/event/market-lobster-dinner/
END:VEVENT
END:VCALENDAR