BEGIN:VCALENDAR
VERSION:2.0
PRODID:-//CJCB - ECPv4.6.26//NONSGML v1.0//EN
CALSCALE:GREGORIAN
METHOD:PUBLISH
X-WR-CALNAME:CJCB
X-ORIGINAL-URL:https://cjcbradio.com
X-WR-CALDESC:Events for CJCB
BEGIN:VEVENT
DTSTART;TZID=America/Halifax:20190509T183000
DTEND;TZID=America/Halifax:20190509T203000
DTSTAMP:20260422T201405
CREATED:20190501T174609Z
LAST-MODIFIED:20190501T174609Z
UID:5389-1557426600-1557433800@cjcbradio.com
SUMMARY:McConnell Library
DESCRIPTION:There will be a special Chinese Cultural program for the general public at the McConnell Library next Thursday evening starting at 6:30pm May 9th by the CBU Chinese Cultural Club. \n
URL:https://cjcbradio.com/event/mcconnell-library-25/
END:VEVENT
END:VCALENDAR