BEGIN:VCALENDAR
VERSION:2.0
PRODID:-//CJCB - ECPv4.6.26//NONSGML v1.0//EN
CALSCALE:GREGORIAN
METHOD:PUBLISH
X-WR-CALNAME:CJCB
X-ORIGINAL-URL:https://cjcbradio.com
X-WR-CALDESC:Events for CJCB
BEGIN:VEVENT
DTSTART;TZID=UTC+0:20171130T180000
DTEND;TZID=UTC+0:20171130T203000
DTSTAMP:20260422T185927
CREATED:20171117T181631Z
LAST-MODIFIED:20171117T181631Z
UID:1246-1512064800-1512073800@cjcbradio.com
SUMMARY:McConnell Library
DESCRIPTION:News Media Today: “Shadows of Liberty” Documentary Screening and Local Media Panel  Thursday\, Nov 30th\, 2017 from 6-8:30 pm James McConnell Memorial Library\, 50 Falmouth St\, Sydney \n \nThe film “Shadows of Liberty” (2012\, 93 min) documents the extraordinary money and power behind the mainstream news media\, as well as its moral and social failures that have turned an arena for public expression into a private profit zone. It picks up where the film “Manufacturing Consent” left off. \nA Panel Discussion will follow to reflect on the documentary from a local media point of view\, with Moderator Ian McNeil and panelists Mary Campbell (Publisher/editor of the Cape Breton Spectator)\, Steve Sutherland (Host of CBC Cape Breton Information Morning)\, Rankin Macdonald (Editor of the Inverness Oran)\, and Andrew Brooks (Publisher/editor of the Victoria Standard). \nIf there is any truth to the idea that one must “Think Globally and Act Locally”\, this is a global situation we must understand. \nPresented by Cinema Politica in Cape Breton (Screening Truth to Power) in partnership with the Cape Breton Spectator and Gryphon Media Productions. \nEveryone welcome. \n
URL:https://cjcbradio.com/event/mcconnell-library-3/
END:VEVENT
END:VCALENDAR