BEGIN:VCALENDAR
VERSION:2.0
PRODID:-//CJCB - ECPv4.6.26//NONSGML v1.0//EN
CALSCALE:GREGORIAN
METHOD:PUBLISH
X-WR-CALNAME:CJCB
X-ORIGINAL-URL:https://cjcbradio.com
X-WR-CALDESC:Events for CJCB
BEGIN:VEVENT
DTSTART;TZID=America/Halifax:20190124T180000
DTEND;TZID=America/Halifax:20190124T210000
DTSTAMP:20260422T170529
CREATED:20190116T185113Z
LAST-MODIFIED:20190116T185113Z
UID:5127-1548352800-1548363600@cjcbradio.com
SUMMARY:McConnell Library
DESCRIPTION:Board Games Night @ the Library\nThursday January 24th\, 6:00-9:00 pm\nMcConnell Library\, 50 Falmouth St\, Sydney \n  \nCome and enjoy a variety of great board and card games. There are lots to choose from including Settlers of Catan\, Ticket to Ride\, Skip Bo\, classics like Balderdash\, Scrabble\, Clue\, Monopoly\, and more! Drop in and bring your friends! If you have a favorite game you’d like to share\, bring it too!  Light refreshments provided. \nEveryone welcome! \n
URL:https://cjcbradio.com/event/mcconnell-library-9/
END:VEVENT
END:VCALENDAR