BEGIN:VCALENDAR
VERSION:2.0
PRODID:-//CJCB - ECPv4.6.26//NONSGML v1.0//EN
CALSCALE:GREGORIAN
METHOD:PUBLISH
X-WR-CALNAME:CJCB
X-ORIGINAL-URL:https://cjcbradio.com
X-WR-CALDESC:Events for CJCB
BEGIN:VEVENT
DTSTART;TZID=America/Halifax:20220824T080000
DTEND;TZID=America/Halifax:20220824T170000
DTSTAMP:20260422T170818
CREATED:20220824T144055Z
LAST-MODIFIED:20220824T144055Z
UID:8629-1661328000-1661360400@cjcbradio.com
SUMMARY:Meet & Greet Networking Event - African NS Employment Project
DESCRIPTION:We welcome you to network and to learn more about the African Nova Scotian Industry and Community Engagement Employment Project and meet our Employment Specialist.\n· Date: Monday\, August 29th\, 2022\n· Time: 2:00pm – 4:00pm\n· Location: Melenick Hall\, Laurier Street\, Sydney\, NS\nWhat to expect:\n· An overview of the project\n· Opportunity to meet Evelyn\, project coordinator.\n· Network with industry employers\, community partners\, and potential African Nova Scotian employees.\n· Q & A\n· Light refreshments provided \nThis information session is open to organizations\, employers\, and people seeking information on employment opportunities. \n
URL:https://cjcbradio.com/event/meet-greet-networking-event-african-ns-employment-project/
END:VEVENT
END:VCALENDAR