BEGIN:VCALENDAR
VERSION:2.0
PRODID:-//CJCB - ECPv4.6.26//NONSGML v1.0//EN
CALSCALE:GREGORIAN
METHOD:PUBLISH
X-WR-CALNAME:CJCB
X-ORIGINAL-URL:https://cjcbradio.com
X-WR-CALDESC:Events for CJCB
BEGIN:VEVENT
DTSTART;TZID=America/Halifax:20230913T180000
DTEND;TZID=America/Halifax:20230913T190000
DTSTAMP:20260424T114022
CREATED:20230906T153718Z
LAST-MODIFIED:20230906T153718Z
UID:9234-1694628000-1694631600@cjcbradio.com
SUMMARY:Minute To Win It
DESCRIPTION:Glace Bay LIbrary \nSept 13 \n6 – 7 \nGot a minute to Win it?  Join us for an hour of family fun and games!   Register by calling 902-849-8657 or email: ewilliams@cbrl.ca or cmcinnis@cbrl.ca \n  \n
URL:https://cjcbradio.com/event/minute-to-win-it/
END:VEVENT
END:VCALENDAR