BEGIN:VCALENDAR
VERSION:2.0
PRODID:-//CJCB - ECPv4.6.26//NONSGML v1.0//EN
CALSCALE:GREGORIAN
METHOD:PUBLISH
X-WR-CALNAME:CJCB
X-ORIGINAL-URL:https://cjcbradio.com
X-WR-CALDESC:Events for CJCB
BEGIN:VEVENT
DTSTART;TZID=America/Halifax:20200122T140000
DTEND;TZID=America/Halifax:20200122T160000
DTSTAMP:20260423T080523
CREATED:20191219T174912Z
LAST-MODIFIED:20191219T174912Z
UID:6122-1579701600-1579708800@cjcbradio.com
SUMMARY:Mira Center Card Game
DESCRIPTION:Wednesday\, January 22 – Cards at the Centre from 2 – 4 p.m. Cost is $5.00 \n
URL:https://cjcbradio.com/event/mira-center-card-game/
END:VEVENT
END:VCALENDAR