BEGIN:VCALENDAR
VERSION:2.0
PRODID:-//CJCB - ECPv4.6.26//NONSGML v1.0//EN
CALSCALE:GREGORIAN
METHOD:PUBLISH
X-WR-CALNAME:CJCB
X-ORIGINAL-URL:https://cjcbradio.com
X-WR-CALDESC:Events for CJCB
BEGIN:VEVENT
DTSTART;TZID=America/Halifax:20200108T140000
DTEND;TZID=America/Halifax:20200108T160000
DTSTAMP:20260422T103501
CREATED:20191219T174704Z
LAST-MODIFIED:20191219T174704Z
UID:6118-1578492000-1578499200@cjcbradio.com
SUMMARY:Mira Centre Cards
DESCRIPTION:Wednesday January 8th – Cards at the Centre from 2 – 4 p.m. Cost is $5.00 \n  \n
URL:https://cjcbradio.com/event/mira-centre-cards/
END:VEVENT
END:VCALENDAR