BEGIN:VCALENDAR
VERSION:2.0
PRODID:-//CJCB - ECPv4.6.26//NONSGML v1.0//EN
CALSCALE:GREGORIAN
METHOD:PUBLISH
X-WR-CALNAME:CJCB
X-ORIGINAL-URL:https://cjcbradio.com
X-WR-CALDESC:Events for CJCB
BEGIN:VEVENT
DTSTART;TZID=America/Halifax:20181102T133000
DTEND;TZID=America/Halifax:20181102T143000
DTSTAMP:20260423T101631
CREATED:20181029T192516Z
LAST-MODIFIED:20181029T192516Z
UID:4954-1541165400-1541169000@cjcbradio.com
SUMMARY:Mock Evacuation Exercise - MacGillivary Guest Home
DESCRIPTION:“MacGillivray Guest Home\, 25 Xavier Drive\, Sydney\, NS\, is conducting a routine\, planned evacuation exercise on Friday\, November 2\, 2018 at 1:30pm. This exercise will involve local Emergency Responders. So as to not cause unnecessary concern to Resident families\, or the community at large\, we would like to provide advance notice of this exercise to the general public.” \n
URL:https://cjcbradio.com/event/mock-evacuation-exercise-macgillivary-guest-home/
END:VEVENT
END:VCALENDAR