BEGIN:VCALENDAR
VERSION:2.0
PRODID:-//CJCB - ECPv4.6.26//NONSGML v1.0//EN
CALSCALE:GREGORIAN
METHOD:PUBLISH
X-WR-CALNAME:CJCB
X-ORIGINAL-URL:https://cjcbradio.com
X-WR-CALDESC:Events for CJCB
BEGIN:VEVENT
DTSTART;TZID=America/Halifax:20191118T133000
DTEND;TZID=America/Halifax:20191118T153000
DTSTAMP:20260423T114433
CREATED:20191023T171549Z
LAST-MODIFIED:20191023T171549Z
UID:5927-1574083800-1574091000@cjcbradio.com
SUMMARY:Monthly Meeting
DESCRIPTION:Monday\, November 18th – Regular monthly meeting at Mira Centre in Marion Bridge at 1:30 p.m. Come out and see what we do and follow us on Facebook. \n  \n
URL:https://cjcbradio.com/event/monthly-meeting-2/
END:VEVENT
END:VCALENDAR