BEGIN:VCALENDAR
VERSION:2.0
PRODID:-//CJCB - ECPv4.6.26//NONSGML v1.0//EN
CALSCALE:GREGORIAN
METHOD:PUBLISH
X-WR-CALNAME:CJCB
X-ORIGINAL-URL:https://cjcbradio.com
X-WR-CALDESC:Events for CJCB
BEGIN:VEVENT
DTSTART;TZID=America/Halifax:20190218T123000
DTEND;TZID=America/Halifax:20190218T143000
DTSTAMP:20260425T183434
CREATED:20190128T153403Z
LAST-MODIFIED:20190128T153403Z
UID:5146-1550493000-1550500200@cjcbradio.com
SUMMARY:Monthly Meeting at Mira Centre\, Marion Bridge
DESCRIPTION:Monday\, February 18th – Monthly meeting with Valentine’s Potluck. Meal starts at 12:30\, meeting to follow \n
URL:https://cjcbradio.com/event/monthly-meeting-at-mira-centre-marion-bridge/
END:VEVENT
END:VCALENDAR