BEGIN:VCALENDAR
VERSION:2.0
PRODID:-//CJCB - ECPv4.6.26//NONSGML v1.0//EN
CALSCALE:GREGORIAN
METHOD:PUBLISH
X-WR-CALNAME:CJCB
X-ORIGINAL-URL:https://cjcbradio.com
X-WR-CALDESC:Events for CJCB
BEGIN:VEVENT
DTSTART;TZID=America/Halifax:20190509T183000
DTEND;TZID=America/Halifax:20190509T203000
DTSTAMP:20260424T102536
CREATED:20190507T141836Z
LAST-MODIFIED:20190507T141836Z
UID:5406-1557426600-1557433800@cjcbradio.com
SUMMARY:Mother Daughter Fashion Show
DESCRIPTION:The Ugly Mug Cafe and Emporium will be hosting a Mother Daughter Fashion Show on Thursday May 9th at 6:30 pm\nFree admission with Donations at the door. all proceeds will go to the Hope Project. See you there! \n
URL:https://cjcbradio.com/event/mother-daughter-fashion-show/
END:VEVENT
END:VCALENDAR