BEGIN:VCALENDAR
VERSION:2.0
PRODID:-//CJCB - ECPv4.6.26//NONSGML v1.0//EN
CALSCALE:GREGORIAN
METHOD:PUBLISH
X-WR-CALNAME:CJCB
X-ORIGINAL-URL:https://cjcbradio.com
X-WR-CALDESC:Events for CJCB
BEGIN:VEVENT
DTSTART;TZID=America/Halifax:20190511T080000
DTEND;TZID=America/Halifax:20190511T110000
DTSTAMP:20260422T170627
CREATED:20190416T172927Z
LAST-MODIFIED:20190416T172927Z
UID:5330-1557561600-1557572400@cjcbradio.com
SUMMARY:Mother's Day Breakfast
DESCRIPTION:Mother’ Day Breakfast\nSt. Columba Church Hall – MARION BRIDGE\nSaturday\, May 11th 8-11am\nAdults $10 & Children $5\n2 Eggs\, Sausages\, Homefries\, Toast\, Muffins\, Juice/Tea/Coffee \n
URL:https://cjcbradio.com/event/mothers-day-breakfast-2/
END:VEVENT
END:VCALENDAR