BEGIN:VCALENDAR
VERSION:2.0
PRODID:-//CJCB - ECPv4.6.26//NONSGML v1.0//EN
CALSCALE:GREGORIAN
METHOD:PUBLISH
X-WR-CALNAME:CJCB
X-ORIGINAL-URL:https://cjcbradio.com
X-WR-CALDESC:Events for CJCB
BEGIN:VEVENT
DTSTART;TZID=UTC+0:20170513T080000
DTEND;TZID=UTC+0:20170513T110000
DTSTAMP:20260423T064926
CREATED:20170420T165423Z
LAST-MODIFIED:20170420T165423Z
UID:547-1494662400-1494673200@cjcbradio.com
SUMMARY:Mother's Day Breakfast
DESCRIPTION:Mother’s Day Breakfast \nSaturday\, May 13th\, 8 am to 11 am \nSt. Columba Church Hall – Marion Bridge \nAdults $9 & Children $4 \n2 eggs\, sausages\, homefries\, toast\, muffins\, tea & coffee \n  \n
URL:https://cjcbradio.com/event/mothers-day-breakfast/
END:VEVENT
END:VCALENDAR