BEGIN:VCALENDAR
VERSION:2.0
PRODID:-//CJCB - ECPv4.6.26//NONSGML v1.0//EN
CALSCALE:GREGORIAN
METHOD:PUBLISH
X-WR-CALNAME:CJCB
X-ORIGINAL-URL:https://cjcbradio.com
X-WR-CALDESC:Events for CJCB
BEGIN:VEVENT
DTSTART;TZID=UTC+0:20170511T190000
DTEND;TZID=UTC+0:20170511T210000
DTSTAMP:20260423T100206
CREATED:20170508T172218Z
LAST-MODIFIED:20170508T172218Z
UID:635-1494529200-1494536400@cjcbradio.com
SUMMARY:Mother's Day Paint Night
DESCRIPTION:MOTHER’S DAY PAINT NIGHT WITH NANCY CHAISSON \nSYDNEY MINES LEGION \nMAY 11TH \n7:00 – 9:00 PM \n$40.00 \nTO RESERVE YOUR SEAT CALL NANCY AT 902-322-0731 \nCommunity C.A.R.E.S Fundraiser \n
URL:https://cjcbradio.com/event/mothers-day-paint-night/
END:VEVENT
END:VCALENDAR