BEGIN:VCALENDAR
VERSION:2.0
PRODID:-//CJCB - ECPv4.6.26//NONSGML v1.0//EN
CALSCALE:GREGORIAN
METHOD:PUBLISH
X-WR-CALNAME:CJCB
X-ORIGINAL-URL:https://cjcbradio.com
X-WR-CALDESC:Events for CJCB
BEGIN:VEVENT
DTSTART;TZID=America/Halifax:20190119T100000
DTEND;TZID=America/Halifax:20190119T150000
DTSTAMP:20260422T033406
CREATED:20190114T134220Z
LAST-MODIFIED:20190114T134220Z
UID:5120-1547892000-1547910000@cjcbradio.com
SUMMARY:Native Council of Nova Scotia Meeting
DESCRIPTION:NATIVE COUNCIL OF NOVA SCOTIA\nGOING FORWARD TO A BETTER FUTURE \n(INAC COLLABORATIVE PROCESS) \n                       INDIAN ACT              \nREGISTRATION CHANGES \nFind out how this affects to you \nMEETING \nSATURDAY\, JANUARY 19\, 2019 \nHEARTHSTONE INN SYDNEY \n 560 Kings Rd\, Sydney\, NS B1S 1B9   \n  \n10 am – 3pm \nLunch and child care provided \nA small travel assistance is available \n  \nFor more information\, please contact Brooke Willis\, Assistant to the NCNS Chief & President @ 902-895-1523 or 1-800-565-4372 (Toll Free) \n
URL:https://cjcbradio.com/event/native-council-of-nova-scotia-meeting/
END:VEVENT
END:VCALENDAR