BEGIN:VCALENDAR
VERSION:2.0
PRODID:-//CJCB - ECPv4.6.26//NONSGML v1.0//EN
CALSCALE:GREGORIAN
METHOD:PUBLISH
X-WR-CALNAME:CJCB
X-ORIGINAL-URL:https://cjcbradio.com
X-WR-CALDESC:Events for CJCB
BEGIN:VEVENT
DTSTART;TZID=UTC+0:20171213T190000
DTEND;TZID=UTC+0:20171213T210000
DTSTAMP:20260424T114313
CREATED:20171124T183706Z
LAST-MODIFIED:20171124T183706Z
UID:1283-1513191600-1513198800@cjcbradio.com
SUMMARY:Nature Photography on Show
DESCRIPTION:Wed Dec 13th\, 2017\, 7:00-9:00 pm McConnell Library\, 50 Falmouth St\, Sydney Enjoy an evening of nature photography with members of the Cape Breton Naturalists Society. If you would like to share some of your photography from the past year\, contact Maureen at mcameronmacm@gmail.com or contact her via the Cape Breton Naturalists’ Society Facebook \n
URL:https://cjcbradio.com/event/nature-photography-on-show/
END:VEVENT
END:VCALENDAR