BEGIN:VCALENDAR
VERSION:2.0
PRODID:-//CJCB - ECPv4.6.26//NONSGML v1.0//EN
CALSCALE:GREGORIAN
METHOD:PUBLISH
X-WR-CALNAME:CJCB
X-ORIGINAL-URL:https://cjcbradio.com
X-WR-CALDESC:Events for CJCB
BEGIN:VEVENT
DTSTART;TZID=America/Halifax:20240821T140000
DTEND;TZID=America/Halifax:20240821T150000
DTSTAMP:20260419T170304
CREATED:20240729T140343Z
LAST-MODIFIED:20240729T140343Z
UID:9836-1724248800-1724252400@cjcbradio.com
SUMMARY:NATURE WEEK: Dino Day!
DESCRIPTION:Glace Bay Library \nWed Aug 21 \n2-3pm \nROARRRRR! Calling all Dino lovers! Come have fun at our DINO DAY! Registration Required.  Please call 902-849-8657 or email glacebay@cbrl.ca \n  \n  \n
URL:https://cjcbradio.com/event/nature-week-dino-day/
END:VEVENT
END:VCALENDAR