BEGIN:VCALENDAR
VERSION:2.0
PRODID:-//CJCB - ECPv4.6.26//NONSGML v1.0//EN
CALSCALE:GREGORIAN
METHOD:PUBLISH
X-WR-CALNAME:CJCB
X-ORIGINAL-URL:https://cjcbradio.com
X-WR-CALDESC:Events for CJCB
BEGIN:VEVENT
DTSTART;VALUE=DATE:20190601
DTEND;VALUE=DATE:20190602
DTSTAMP:20260424T142048
CREATED:20190514T163339Z
LAST-MODIFIED:20190514T163339Z
UID:5432-1559347200-1559433599@cjcbradio.com
SUMMARY:Navigation Course
DESCRIPTION:A Navigation Maps & Compass Course will be offered June 1-2 in Sydney. Participants receive Outdoor Council of Canada national certification. The cost is $110 to $135. Learn more and register at www.hikenovascotia.ca. \n
URL:https://cjcbradio.com/event/navigation-course/
END:VEVENT
END:VCALENDAR