BEGIN:VCALENDAR
VERSION:2.0
PRODID:-//CJCB - ECPv4.6.26//NONSGML v1.0//EN
CALSCALE:GREGORIAN
METHOD:PUBLISH
X-WR-CALNAME:CJCB
X-ORIGINAL-URL:https://cjcbradio.com
X-WR-CALDESC:Events for CJCB
BEGIN:VEVENT
DTSTART;TZID=America/Halifax:20240907T140000
DTEND;TZID=America/Halifax:20240907T170000
DTSTAMP:20260422T170551
CREATED:20240830T144221Z
LAST-MODIFIED:20240830T144221Z
UID:9870-1725717600-1725728400@cjcbradio.com
SUMMARY:NEVS 2024 Corn Boil
DESCRIPTION:Sept 7\, 2-5 PM weather date of Sept 8 same time\nGlace Bay Fitness Park – (former #11 ballfield) 1 Emery st\, GB\nFree corn dipped in hot butter\, ice tea\, hayrides\, bounce tent\, cotton candy\, balloon animals & games\nLive music by Gunner\, Free draw for all attendees for a family size slow cooker\nAlso a small fundraising 50/50 Bingo games $1/card/game \n
URL:https://cjcbradio.com/event/nevs-2024-corn-boil/
END:VEVENT
END:VCALENDAR