BEGIN:VCALENDAR
VERSION:2.0
PRODID:-//CJCB - ECPv4.6.26//NONSGML v1.0//EN
CALSCALE:GREGORIAN
METHOD:PUBLISH
X-WR-CALNAME:CJCB
X-ORIGINAL-URL:https://cjcbradio.com
X-WR-CALDESC:Events for CJCB
BEGIN:VEVENT
DTSTART;TZID=America/Halifax:20190519T100000
DTEND;TZID=America/Halifax:20190519T140000
DTSTAMP:20260423T071122
CREATED:20190507T181613Z
LAST-MODIFIED:20190507T181613Z
UID:5412-1558260000-1558274400@cjcbradio.com
SUMMARY:New Harris Run\, Walk\, or Crawl!
DESCRIPTION:10th Annual New Harris Run Walk or Crawl Sunday\, May 19th\, 2019. 10 am Check in 11am Start\nLocation: Summer Snow\, Yellow A-Frame \, 7 km up the New Harris Road at the base of Kelly’s Mountain\, Cape Breton\nThis a “Nothing Fancy” event so running or walking is your choice.\nNo registration required but donations are encouraged as all proceeds will be donated to the Cancer Patient Care fund and The Cape Breton Regional. \nEntertainment provided by Donnie Campbell and Jinx O’Neil with free refreshments provided. \nThank You and Hope to see you there!! \n
URL:https://cjcbradio.com/event/new-harris-run-walk-or-crawl/
END:VEVENT
END:VCALENDAR