BEGIN:VCALENDAR
VERSION:2.0
PRODID:-//CJCB - ECPv4.6.26//NONSGML v1.0//EN
CALSCALE:GREGORIAN
METHOD:PUBLISH
X-WR-CALNAME:CJCB
X-ORIGINAL-URL:https://cjcbradio.com
X-WR-CALDESC:Events for CJCB
BEGIN:VEVENT
DTSTART;TZID=America/Halifax:20221231T210000
DTEND;TZID=America/Halifax:20230101T010000
DTSTAMP:20260425T170906
CREATED:20221207T173524Z
LAST-MODIFIED:20221207T173534Z
UID:8760-1672520400-1672534800@cjcbradio.com
SUMMARY:New Year's Eve at the Polish Village Hall
DESCRIPTION:The Polish Village Hall New Year’s Eve celebration is back! This always-popular event features DJ Robin Krszwda. New Year’s Eve\, 9 p.m. to 1 a.\,m. Tickets are $15 each and includes a light meal. Proceeds to the St. Michael’s Polish Benefit Society. For tickets\, please call Nicole MacCormack at 902-371-5088. \n
URL:https://cjcbradio.com/event/new-years-eve-at-the-polish-village-hall/
END:VEVENT
END:VCALENDAR