BEGIN:VCALENDAR
VERSION:2.0
PRODID:-//CJCB - ECPv4.6.26//NONSGML v1.0//EN
CALSCALE:GREGORIAN
METHOD:PUBLISH
X-WR-CALNAME:CJCB
X-ORIGINAL-URL:https://cjcbradio.com
X-WR-CALDESC:Events for CJCB
BEGIN:VEVENT
DTSTART;TZID=America/Halifax:20221119T193000
DTEND;TZID=America/Halifax:20221120T000000
DTSTAMP:20260422T105150
CREATED:20221116T155843Z
LAST-MODIFIED:20221116T155843Z
UID:8736-1668886200-1668902400@cjcbradio.com
SUMMARY:Night of Music Fundraiser
DESCRIPTION:When: November 19\, 2022 7:30p to 12a\nWhere : Cedars Club\, 30 MacKenzie Street\, Sydney Nova Scotia\nThe Event: Performers Hearts of Kin\, RG Schaller\, Kelly’s Brew\, Jeff Wadden\, Michael Young. A night of great fun\, local music\, dancing\, food\, drinks\, 50/50 \, door prizes\, all In support of the Cape Breton Farmers’ Market.\nA Silent Auction will be held with all proceeds going to Molly’s MIssion.\nTickets can be bought at the Farmers’ Market Thursday Nov. 10\, Saturday Nov. 12\,\nby phoning the Market- leave a message and we will happily get back to you\,\nby email: cbfarmersmarket@bellaliant.com\, by social media both:\nFacebook: @cbfarmersmarket \, Instagram: @capebretonfarmersmarket\,\nby web through capebretonfarmersmarket.com and lastly through https://www.eventbrite.com/o/cape-breton-farmers-market-55351838483\nCome one come all and help to support a wonderful organization. \n
URL:https://cjcbradio.com/event/night-of-music-fundraiser/
END:VEVENT
END:VCALENDAR