BEGIN:VCALENDAR
VERSION:2.0
PRODID:-//CJCB - ECPv4.6.26//NONSGML v1.0//EN
CALSCALE:GREGORIAN
METHOD:PUBLISH
X-WR-CALNAME:CJCB
X-ORIGINAL-URL:https://cjcbradio.com
X-WR-CALDESC:Events for CJCB
BEGIN:VEVENT
DTSTART;TZID=UTC+0:20170625T120000
DTEND;TZID=UTC+0:20170625T150000
DTSTAMP:20260422T201421
CREATED:20170613T154845Z
LAST-MODIFIED:20170613T154845Z
UID:788-1498392000-1498402800@cjcbradio.com
SUMMARY:No Frills Car Show
DESCRIPTION:No Frills Car Show Antique and custom cars Sunday June 25. 12 – 3 Neville Park walking track Whitney Pier BBQ provided by Boys & Girls Club Whitney Pier \n
URL:https://cjcbradio.com/event/no-frills-car-show/
END:VEVENT
END:VCALENDAR