BEGIN:VCALENDAR
VERSION:2.0
PRODID:-//CJCB - ECPv4.6.26//NONSGML v1.0//EN
CALSCALE:GREGORIAN
METHOD:PUBLISH
X-WR-CALNAME:CJCB
X-ORIGINAL-URL:https://cjcbradio.com
X-WR-CALDESC:Events for CJCB
BEGIN:VEVENT
DTSTART;VALUE=DATE:20230510
DTEND;VALUE=DATE:20230511
DTSTAMP:20260424T100713
CREATED:20230508T161733Z
LAST-MODIFIED:20230508T161733Z
UID:9068-1683676800-1683763199@cjcbradio.com
SUMMARY:Nova Scotia Walk Day
DESCRIPTION:On May 10 Hike Nova Scotia and partners across the province will gather to celebrate walking and how it connects us to our communities and to each other. There are 55 group walks taking place in communities across the province from sunup to sundown. \n“Walking or wheeling is a safe and enjoyable way for anyone to get more physically active. Most of the health benefits of physical activity can be achieved from walking. People who walk in a group have the added benefit of social connections in addition to healthier bodies and minds\,“ says Dr. Robert Strang\, Chief Medical Officer of Health in Nova Scotia. \nNova Scotia Walk Day is being organized by Hike Nova Scotia’s NS Walks program\, which aims to help less active adults enjoy the benefits of walking through group walks. \nCatherine Droesbeck\, Program Manager with Hike Nova Scotia\, says its participant surveys have shown group walks help. “86% of participants said they are more active\, 80% said they have increased social connections and over 75% had more fun than before they began walking in a group. It’s a win-win all around!” \nMore information or to RSVP: Catherine Droesbeck\, Hike Nova Scotia\, (902) 483-2813\, walk@hikenovascotia.ca. \n
URL:https://cjcbradio.com/event/nova-scotia-walk-day/
END:VEVENT
END:VCALENDAR