BEGIN:VCALENDAR
VERSION:2.0
PRODID:-//CJCB - ECPv4.6.26//NONSGML v1.0//EN
CALSCALE:GREGORIAN
METHOD:PUBLISH
X-WR-CALNAME:CJCB
X-ORIGINAL-URL:https://cjcbradio.com
X-WR-CALDESC:Events for CJCB
BEGIN:VEVENT
DTSTART;VALUE=DATE:20231125
DTEND;VALUE=DATE:20231126
DTSTAMP:20260422T103510
CREATED:20231106T163319Z
LAST-MODIFIED:20231106T163319Z
UID:9364-1700870400-1700956799@cjcbradio.com
SUMMARY:NWDCC Public Skating
DESCRIPTION:New Waterford and District Community Centre\nSaturday\, Nov. 25 – 3:30 p.m. \n
URL:https://cjcbradio.com/event/nwdcc-public-skating-3/
END:VEVENT
END:VCALENDAR