BEGIN:VCALENDAR
VERSION:2.0
PRODID:-//CJCB - ECPv4.6.26//NONSGML v1.0//EN
CALSCALE:GREGORIAN
METHOD:PUBLISH
X-WR-CALNAME:CJCB
X-ORIGINAL-URL:https://cjcbradio.com
X-WR-CALDESC:Events for CJCB
BEGIN:VEVENT
DTSTART;TZID=America/Halifax:20190209T080000
DTEND;TZID=America/Halifax:20190209T100000
DTSTAMP:20260424T114312
CREATED:20190206T185240Z
LAST-MODIFIED:20190206T185240Z
UID:5169-1549699200-1549706400@cjcbradio.com
SUMMARY:Pancake and Sausage Breakfast
DESCRIPTION:Pancake and Sausage Breakfast on Saturday\, February 9th at United Protestant Church\, Sydney River.  Serving breakfast between 8 AM – 10 AM\, eat in or take out.  Cost: $6.00.  To reserve tickets\, call 902-564-9078. \n  \n  \n
URL:https://cjcbradio.com/event/pancake-and-sausage-breakfast-6/
END:VEVENT
END:VCALENDAR