BEGIN:VCALENDAR
VERSION:2.0
PRODID:-//CJCB - ECPv4.6.26//NONSGML v1.0//EN
CALSCALE:GREGORIAN
METHOD:PUBLISH
X-WR-CALNAME:CJCB
X-ORIGINAL-URL:https://cjcbradio.com
X-WR-CALDESC:Events for CJCB
BEGIN:VEVENT
DTSTART;TZID=America/Halifax:20251002T153000
DTEND;TZID=America/Halifax:20251002T160000
DTSTAMP:20260422T120148
CREATED:20250911T183341Z
LAST-MODIFIED:20250911T183341Z
UID:10388-1759419000-1759420800@cjcbradio.com
SUMMARY:Paper Pumpkins
DESCRIPTION:Glace Bay Library \nOctober 2\,  3:30 – 4pm \nJoin us an make a pumpkin out of paper strips.  Registration Required. Please email glacebay@cbrl.ca or call 902-849-8657. \n  \n
URL:https://cjcbradio.com/event/paper-pumpkins/
END:VEVENT
END:VCALENDAR