BEGIN:VCALENDAR
VERSION:2.0
PRODID:-//CJCB - ECPv4.6.26//NONSGML v1.0//EN
CALSCALE:GREGORIAN
METHOD:PUBLISH
X-WR-CALNAME:CJCB
X-ORIGINAL-URL:https://cjcbradio.com
X-WR-CALDESC:Events for CJCB
BEGIN:VEVENT
DTSTART;TZID=America/Halifax:20221022T140000
DTEND;TZID=America/Halifax:20221022T160000
DTSTAMP:20260422T140546
CREATED:20221019T152113Z
LAST-MODIFIED:20221019T152113Z
UID:8707-1666447200-1666454400@cjcbradio.com
SUMMARY:Parkinson's Society Halloween Social
DESCRIPTION:Come and join the Parkinson Society and have some fun.  Happening from 2-4PM at Club 55\, on the corner of Prince and Bentinck\, Sydney.  You may dress up\, but you don’t have to.  Mr. Duo will be entertaining with Rock and Roll\, Country and Country Rock.  Admission $5.00 and anyone is welcome. \n
URL:https://cjcbradio.com/event/parkinsons-society-halloween-social/
END:VEVENT
END:VCALENDAR