BEGIN:VCALENDAR
VERSION:2.0
PRODID:-//CJCB - ECPv4.6.26//NONSGML v1.0//EN
CALSCALE:GREGORIAN
METHOD:PUBLISH
X-WR-CALNAME:CJCB
X-ORIGINAL-URL:https://cjcbradio.com
X-WR-CALDESC:Events for CJCB
BEGIN:VEVENT
DTSTART;TZID=America/Halifax:20230306T183000
DTEND;TZID=America/Halifax:20230306T193000
DTSTAMP:20260422T134203
CREATED:20230227T145410Z
LAST-MODIFIED:20230227T145410Z
UID:8918-1678127400-1678131000@cjcbradio.com
SUMMARY:Pokemon Club 1
DESCRIPTION:Glace Bay Library \nMon March 6 \n6:30 – 7:30pm \nWe Choose You!  Come on down for an evening of fun and pokemon!  Gotta Catch ‘em all! \nRegistration is required.  Please contact  ajessome@cbrl.ca to register. \n  \n
URL:https://cjcbradio.com/event/pokemon-club-1-2/
END:VEVENT
END:VCALENDAR